BEGIN:VCALENDAR
VERSION:2.0
PRODID:-//Disability Sports Australia - ECPv6.15.20//NONSGML v1.0//EN
CALSCALE:GREGORIAN
METHOD:PUBLISH
X-WR-CALNAME:Disability Sports Australia
X-ORIGINAL-URL:https://sports.org.au
X-WR-CALDESC:Events for Disability Sports Australia
REFRESH-INTERVAL;VALUE=DURATION:PT1H
X-Robots-Tag:noindex
X-PUBLISHED-TTL:PT1H
BEGIN:VTIMEZONE
TZID:Australia/Darwin
BEGIN:STANDARD
TZOFFSETFROM:+0930
TZOFFSETTO:+0930
TZNAME:ACST
DTSTART:20230101T000000
END:STANDARD
END:VTIMEZONE
BEGIN:VEVENT
DTSTART;TZID=Australia/Darwin:20241206T080000
DTEND;TZID=Australia/Darwin:20241206T170000
DTSTAMP:20260424T181017
CREATED:20241125T102810Z
LAST-MODIFIED:20241125T114020Z
UID:4445-1733472000-1733504400@sports.org.au
SUMMARY:Test event name
DESCRIPTION:This is a test event description. Here is where any background information or additional details will be added.
URL:https://sports.org.au/event/test-event-name/
LOCATION:Sydney Olympic Park\, Sydney\, NSW\, 2127\, Australia
ORGANIZER;CN="Tester":MAILTO:tash.linley@makeitmatta.com
END:VEVENT
END:VCALENDAR